BEGIN:VCALENDAR
VERSION:2.0
PRODID:-//ChamberMaster//Event Calendar 2.0//EN
METHOD:PUBLISH
X-PUBLISHED-TTL:P3D
REFRESH-INTERVAL:P3D
CALSCALE:GREGORIAN
BEGIN:VEVENT
DTSTART:20230529T223000Z
DTEND:20230530T023000Z
X-MICROSOFT-CDO-ALLDAYEVENT:FALSE
SUMMARY:2023 Ministers' Dinner
DESCRIPTION:The Manitoba Chambers of Commerce is pleased to once again host the Government of Manitoba's Cabinet Ministers for an evening of discussion and dialogue about Manitoba's path forward.\n\n\n\nThe Ministers' Dinner was developed to bring business and community leaders together for a unique opportunity to connect directly to the action drivers in the provincial government. \n\n\n\nEach roundtable is abuzz\; hosted by a different Minister or ranking member of the governing caucus\, allowing for an informal exchange of ideas\, concerns\, and opinions with Manitoba's top officials. \n\n\n\nThis is a MEMBERS'S ONLY event and seating is limited! REGISTER TODAY.\n\n\n\n- Registration is limited to two (2) seats per member organization and all registrations will be reviewed.\n\n- Registration closes on May 23\, 2023\, or when the event has sold out (whichever comes first).\n\n\n\nNEW! All attendees are asked to select their top three (3) Ministers of priority. Click here to view the current Cabinet list.\n\n\n\nCancellation & Refund Policy\n\nThe cancellation/refund deadline for this event is May 23 at 5PM. For MCC's full refund/cancellation policy\, click here.
X-ALT-DESC;FMTTYPE=text/html:The Manitoba Chambers of Commerce is pleased to once again host the Government of Manitoba&#39\;s Cabinet Ministers for an evening of discussion and dialogue about Manitoba&#39\;s path forward.<br />\n<br />\nThe Ministers&#39\; Dinner was developed to bring business and community leaders together for a unique opportunity to connect directly to the action drivers in the provincial government.&nbsp\;<br />\n<br />\nEach roundtable is abuzz\; hosted by a different Minister or ranking member of the governing caucus\, allowing for an informal exchange of ideas\, concerns\, and opinions with Manitoba&#39\;s top officials.&nbsp\;<br />\n<br />\n<strong>This is a <span style="color:#ff6600\;">MEMBERS&#39\;S ONLY</span> event and seating is limited! <span style="color:#ff6600\;">REGISTER TODAY.</span></strong><br />\n<br />\n- Registration is limited to two (2) seats per member organization and all registrations will be reviewed.<br />\n- Registration closes on May 23\, 2023\, or when the event has sold out (whichever comes first).<br />\n<br />\n<span style="color:#FFFFFF\;"><strong><span style="background-color:#ff6600\;">NEW!</span></strong></span> All attendees are asked to select their top three (3) Ministers of priority. Click <a href="https://www.gov.mb.ca/minister/index.html">here</a> to view the current Cabinet list.<br />\n<br />\n<strong>Cancellation &amp\; Refund Policy</strong><br />\nThe cancellation/refund deadline for this event is May 23 at 5PM. For MCC&#39\;s full refund/cancellation policy\, click <a href="https://chambermaster.blob.core.windows.net/userfiles/UserFiles/chambers/3629/Image/MCC-In-Person-Events-Policies---August-25.-2022.pdf">here</a>.&nbsp\;
LOCATION:Grand Ballroom\, Fort Garry Place Attendees will access the Grand Ballroom through the hotel (222 Broadway) from the first-level skywalk in the hotel.
UID:e.3629.154
SEQUENCE:3
DTSTAMP:20260421T194617Z
URL:http://mbchamber.chambermaster.com/events/details/2023-ministers-dinner-154
END:VEVENT

END:VCALENDAR
