BEGIN:VCALENDAR
VERSION:2.0
PRODID:-//ChamberMaster//Event Calendar 2.0//EN
METHOD:PUBLISH
X-PUBLISHED-TTL:P3D
REFRESH-INTERVAL:P3D
CALSCALE:GREGORIAN
BEGIN:VEVENT
DTSTART:20250926T163000Z
DTEND:20250926T173000Z
X-MICROSOFT-CDO-ALLDAYEVENT:FALSE
SUMMARY:Stu Clark Webinar Series - No Idea? No Problem!
DESCRIPTION:Not sure what business to start? You're not alone! And that's exactly where entrepreneurship begins.\n\nBuilding on last year's It All Begins with an Idea!\, this interactive session will walk you through proven methods to uncover meaningful\, real-world problems worth solving.\n\nYou'll learn how to shift your thinking from "What should I build?" to "What needs to be solved?"\, and how to craft problem statements that lead to real impact and opportunity.\n\n?? Key Takeaways\n\n\n	\n	Learn how to spot pain points and gaps worth solving\n	\n	\n	Explore simple tools to validate whether a problem is real\n	\n	\n	Craft clear\, compelling problem statements that lead to action\n	\n\n\nThis is your starting line even if you have a startup idea!\n\n \n\nBen Isakov is a Business Breakthrough Strategist and Exit Planning Advisor with 20+ years of experience in operations\, quality systems\, and continuous improvement. He helps entrepreneurs and business owners break through growth barriers by aligning strategy with real-world execution.\n\nAt the University of Manitoba\, Ben serves as the Strategic Partnership and Venture Support Lead at the Stu Clark Centre for Entrepreneurship\, where he also teaches the entrepreneurship courses. He brings deep industry insight and a practical mindset to help student founders build ventures that are both impactful and scalable.\n\n\n\nSign up today - https://umanitoba.startuptree.co/event/s/SKKmMYGjQLxrfyCa928xy8/No-Idea%253F-No-Problem%2521-How-to-Identify-Real-Problems-Worth-Solving
X-ALT-DESC;FMTTYPE=text/html:<p>Not sure what business to start? You&rsquo\;re not alone! And that&rsquo\;s exactly where entrepreneurship begins.</p>\n\n<p>Building on last year&rsquo\;s&nbsp\;<em>It All Begins with an Idea!</em>\, this interactive session will walk you through proven methods to uncover meaningful\, real-world problems worth solving.</p>\n\n<p>You&#39\;ll learn how to shift your thinking from &ldquo\;<em>What should I build?</em>&rdquo\; to &ldquo\;<em>What needs to be solved?</em>&rdquo\;\, and how to craft problem statements that lead to real impact and opportunity.</p>\n\n<p>??&nbsp\;<strong>Key Takeaways</strong></p>\n\n<ul>\n	<li>\n	<p>Learn how to spot pain points and gaps worth solving</p>\n	</li>\n	<li>\n	<p>Explore simple tools to validate whether a problem is real</p>\n	</li>\n	<li>\n	<p>Craft clear\, compelling problem statements that lead to action</p>\n	</li>\n</ul>\n\n<p>This is your starting line even if you have a startup idea!</p>\n\n<p>&nbsp\;</p>\n\n<p><strong>Ben Isakov</strong>&nbsp\;is a Business Breakthrough Strategist and Exit Planning Advisor with 20+ years of experience in operations\, quality systems\, and continuous improvement. He helps entrepreneurs and business owners break through growth barriers by aligning strategy with real-world execution.</p>\n\n<p>At the University of Manitoba\, Ben serves as the Strategic Partnership and Venture Support Lead at the Stu Clark Centre for Entrepreneurship\, where he also teaches the entrepreneurship courses. He brings deep industry insight and a practical mindset to help student founders build ventures that are both impactful and scalable.<br />\n<br />\nSign up today -&nbsp\;https://umanitoba.startuptree.co/event/s/SKKmMYGjQLxrfyCa928xy8/No-Idea%253F-No-Problem%2521-How-to-Identify-Real-Problems-Worth-Solving</p>\n
LOCATION:Virtual - https://umanitoba.startuptree.co/event/s/SKKmMYGjQLxrfyCa928xy8/No-Idea%253F-No-Problem%2521-How-to-Identify-Real-Problems-Worth-Solving
UID:e.3629.431
SEQUENCE:3
DTSTAMP:20260424T055945Z
URL:http://mbchamber.chambermaster.com/events/details/stu-clark-webinar-series-no-idea-no-problem-431
END:VEVENT

END:VCALENDAR
